BEGIN:VCALENDAR
VERSION:2.0
PRODID:gruene-adendorf-scharnebeck.de
METHOD:PUBLISH
BEGIN:VTIMEZONE
TZID:Europe/Berlin
X-LIC-LOCATION:Europe/Berlin
BEGIN:DAYLIGHT
TZOFFSETFROM:+0100
TZOFFSETTO:+0200
TZNAME:CEST
DTSTART:19700329T020000
RRULE:FREQ=YEARLY;INTERVAL=1;BYDAY=-1SU;BYMONTH=3
END:DAYLIGHT
BEGIN:STANDARD
TZOFFSETFROM:+0200
TZOFFSETTO:+0100
TZNAME:CET
DTSTART:19701025T030000
RRULE:FREQ=YEARLY;INTERVAL=1;BYDAY=-1SU;BYMONTH=10
END:STANDARD
END:VTIMEZONE
BEGIN:VEVENT
UID:d9e91ce35776d1a226e3080ea7453ef5@gruene-adendorf-scharnebeck.de
URL;VALUE=URI:https://gruene-adendorf-scharnebeck.de/termine/ortsmitglied
 erversammlung-2/
LOCATION:Nannis, Am Sportplatz 13, Brietlingen
SUMMARY:Ortsmitgliederversammlung
DESCRIPTION;ALTREP="data:text/html,%0A%3Cp%20class%3D%22has-medium-font-s
 ize%22%3E%3C%2Fp%3E%0A":
CLASS:PUBLIC
DTSTART;TZID=Europe/Berlin:20240214T190000
DTEND;TZID=Europe/Berlin:20240214T213000
DTSTAMP:20260423T102848
END:VEVENT
END:VCALENDAR